BEGIN:VCALENDAR
VERSION:2.0
PRODID:-//Arte &amp; Presencia - ECPv6.15.20//NONSGML v1.0//EN
CALSCALE:GREGORIAN
METHOD:PUBLISH
X-ORIGINAL-URL:https://arteypresencia.com
X-WR-CALDESC:Eventos para Arte &amp; Presencia
REFRESH-INTERVAL;VALUE=DURATION:PT1H
X-Robots-Tag:noindex
X-PUBLISHED-TTL:PT1H
BEGIN:VTIMEZONE
TZID:UTC
BEGIN:STANDARD
TZOFFSETFROM:+0000
TZOFFSETTO:+0000
TZNAME:UTC
DTSTART:20250101T000000
END:STANDARD
END:VTIMEZONE
BEGIN:VEVENT
DTSTART;TZID=UTC:20261204T170000
DTEND;TZID=UTC:20261206T150000
DTSTAMP:20260414T214547
CREATED:20260414T115243Z
LAST-MODIFIED:20260414T115243Z
UID:2487-1796403600-1796569200@arteypresencia.com
SUMMARY:Postgrado en Clowngestalt\, Andalucía
DESCRIPTION:SEVILLA.   \nARTE & PRESENCIA + CENTRO KAYRÓS. \n2º Módulo de formación en la Especialidad de Clowngestalt a cargo de Marina Gutiérrez \nhttps://arteypresencia.com/formaciones-en-arte-y-presencia/
URL:https://arteypresencia.com/evento/postgrado-en-clowngestalt-andalucia/
LOCATION:Kayros\, Calle Luis Montoto 107-113\, Sevilla\, 41007\, Spain
END:VEVENT
BEGIN:VEVENT
DTSTART;TZID=UTC:20261211T170000
DTEND;TZID=UTC:20261213T140000
DTSTAMP:20260414T214547
CREATED:20260414T122754Z
LAST-MODIFIED:20260414T122754Z
UID:2501-1797008400-1797170400@arteypresencia.com
SUMMARY:Clown Gestalt con Néstor Muzo en Barcelona
DESCRIPTION:BARCELONA\, MATARÓ    \nINSTITUT INTEGRATIU \nTaller de Clowngestalt a cargo de Néstor Muzo para grupos cerrados de formación en terapia gestalt.
URL:https://arteypresencia.com/evento/clown-gestalt-con-nestor-muzo-en-barcelona/
END:VEVENT
BEGIN:VEVENT
DTSTART;TZID=UTC:20261218T173000
DTEND;TZID=UTC:20261220T140000
DTSTAMP:20260414T214547
CREATED:20260414T115648Z
LAST-MODIFIED:20260414T115701Z
UID:2489-1797615000-1797775200@arteypresencia.com
SUMMARY:Polaridades\, clown y gestalt en Cádiz
DESCRIPTION:CÁDIZ.   \nCENTRO SYAM \nTaller de Polaridades para grupo cerrado de formación en Terapia Gestalt\, a cargo de Marina Gutiérrez. \n 
URL:https://arteypresencia.com/evento/polaridades-clown-y-gestalt-en-cadiz/
END:VEVENT
END:VCALENDAR